BEGIN:VCALENDAR
VERSION:2.0
PRODID:-//Tukios.com/
BEGIN:VEVENT
UID:57511fdd-6f6e-4d8f-b882-5de13ef48f33@www.keslingfuneralhome.net
DTSTAMP:20260421T001428Z
DTSTART:20260425T000000Z
DTEND:20260425T010000Z
SUMMARY:Prayer Service
DESCRIPTION:
URL:https://www.keslingfuneralhome.net/obituaries/delila-keller
LOCATION:Holy Cross Catholic Church 506 F St  Timber Lake SD 57656
GEO:45.4268323;-101.0758479
END:VEVENT
END:VCALENDAR