BEGIN:VCALENDAR
VERSION:2.0
PRODID:-//Tukios.com/
BEGIN:VEVENT
UID:a77b3059-e2c8-4f20-bab2-b45d899e770f@www.keslingfuneralhome.net
DTSTAMP:20260421T001718Z
DTSTART:20260424T230000Z
DTEND:20260425T000000Z
SUMMARY:Visitation
DESCRIPTION:
URL:https://www.keslingfuneralhome.net/obituaries/delila-keller
LOCATION:Holy Cross Catholic Church 506 F St  Timber Lake SD 57656
GEO:45.4268323;-101.0758479
END:VEVENT
END:VCALENDAR