BEGIN:VCALENDAR
VERSION:2.0
PRODID:-//Tukios.com/
BEGIN:VEVENT
UID:9997c586-7063-4a52-91a4-95e784f2c5a5@www.keslingfuneralhome.net
DTSTAMP:20260421T001729Z
DTSTART:20260425T150000Z
DTEND:20260425T160000Z
SUMMARY:Mass of Christian Burial
DESCRIPTION:
URL:https://www.keslingfuneralhome.net/obituaries/delila-keller
LOCATION: 506 F St  Timber Lake SD 57656
GEO:45.4268323;-101.0758479
END:VEVENT
END:VCALENDAR